BEGIN:VCALENDAR
VERSION:2.0
PRODID:-//dhtmlXScheduler//NONSGML v2.2//EN
X-WR-CALNAME:Wydarzenia
BEGIN:VEVENT
DTSTART:20230111T150000
DTEND:20230111T170000
UID:0
SUMMARY:Seminarium WM
END:VEVENT
BEGIN:VEVENT
DTSTART:20230112T150000
DTEND:20230112T170000
UID:1
SUMMARY:Katedra Algebry i Geometrii - seminarium
END:VEVENT
BEGIN:VEVENT
DTSTART:20230113T101500
DTEND:20230113T120000
UID:2
SUMMARY:Katedra Fizyki Matematycznej - seminarium
END:VEVENT
BEGIN:VEVENT
DTSTART:20230118T150000
DTEND:20230118T170000
UID:3
SUMMARY:Seminarium WM
END:VEVENT
BEGIN:VEVENT
DTSTART:20230118T170000
DTEND:20230118T180000
UID:4
SUMMARY:CKUM - Klub My, matematyczni podróżnicy
END:VEVENT
BEGIN:VEVENT
DTSTART:20230118T170000
DTEND:20230118T180000
UID:5
SUMMARY:CKUM - Klub My, tropiciele matematyki
END:VEVENT
BEGIN:VEVENT
DTSTART:20230118T160000
DTEND:20230118T170000
UID:6
SUMMARY:CKUM - Klub My matematyce
END:VEVENT
BEGIN:VEVENT
DTSTART:20230120T101500
DTEND:20230120T120000
UID:7
SUMMARY:Katedra Fizyki Matematycznej - seminarium
END:VEVENT
BEGIN:VEVENT
DTSTART:20230125T150000
DTEND:20230125T153000
UID:8
SUMMARY:Seminarium szkoleniowe: praca w EZD oraz o wymogach przy składaniu wniosków habilitacyjnych i profesorskich
END:VEVENT
END:VCALENDAR