BEGIN:VCALENDAR
VERSION:2.0
PRODID:-//dhtmlXScheduler//NONSGML v2.2//EN
X-WR-CALNAME:Wydarzenia
BEGIN:VEVENT
DTSTART:20240110T131500
DTEND:20240110T150000
UID:0
SUMMARY:Seminarium WM
END:VEVENT
BEGIN:VEVENT
DTSTART:20240112T113000
DTEND:20240112T133000
UID:1
SUMMARY:Pracownia Analizy Funkcjonalnej - seminarium
END:VEVENT
BEGIN:VEVENT
DTSTART:20240112T094500
DTEND:20240112T114500
UID:2
SUMMARY:Katedra Fizyki Matematycznej - seminarium
END:VEVENT
BEGIN:VEVENT
DTSTART:20240115T140000
DTEND:20240115T160000
UID:3
SUMMARY:Katedra Algebry i Geometrii - seminarium
END:VEVENT
BEGIN:VEVENT
DTSTART:20240117T160000
DTEND:20240117T170000
UID:4
SUMMARY:CKUM - Klub My matematyce
END:VEVENT
BEGIN:VEVENT
DTSTART:20240117T170000
DTEND:20240117T180000
UID:5
SUMMARY:CKUM - Klub My, tropiciele matematyki
END:VEVENT
BEGIN:VEVENT
DTSTART:20240117T131500
DTEND:20240117T150000
UID:6
SUMMARY:Seminarium WM
END:VEVENT
BEGIN:VEVENT
DTSTART:20240119T113000
DTEND:20240119T130000
UID:7
SUMMARY:Pracownia Analizy Funkcjonalnej - seminarium
END:VEVENT
BEGIN:VEVENT
DTSTART:20240119T094500
DTEND:20240119T110000
UID:8
SUMMARY:Katedra Fizyki Matematycznej - seminarium
END:VEVENT
BEGIN:VEVENT
DTSTART:20240124T131500
DTEND:20240124T141500
UID:9
SUMMARY:Spotkanie przedwyborcze z kadydatem na rektora UwB
END:VEVENT
BEGIN:VEVENT
DTSTART:20240126T094500
DTEND:20240126T110000
UID:10
SUMMARY:Katedra Fizyki Matematycznej - seminarium
END:VEVENT
BEGIN:VEVENT
DTSTART:20240129T140000
DTEND:20240129T153000
UID:11
SUMMARY:Katedra Algebry i Geometrii - seminarium
END:VEVENT
BEGIN:VEVENT
DTSTART:20240131T131500
DTEND:20240131T141500
UID:12
SUMMARY:Spotkanie przedwyborcze z kadydatem na rektora UwB
END:VEVENT
END:VCALENDAR