BEGIN:VCALENDAR
VERSION:2.0
PRODID:-//dhtmlXScheduler//NONSGML v2.2//EN
X-WR-CALNAME:Wydarzenia
BEGIN:VEVENT
DTSTART:20250110T094500
DTEND:20250110T111500
UID:0
SUMMARY:Katedra Fizyki Matematycznej - seminarium
END:VEVENT
BEGIN:VEVENT
DTSTART:20250115T131500
DTEND:20250115T141500
UID:1
SUMMARY:Seminarium WM
END:VEVENT
BEGIN:VEVENT
DTSTART:20250115T113000
DTEND:20250115T130000
UID:2
SUMMARY:Katedra Algebry i Geometrii - seminarium
END:VEVENT
BEGIN:VEVENT
DTSTART:20250116T160000
DTEND:20250116T170000
UID:3
SUMMARY:CKUM - styczniowe spotkanie klubu „Młodzi umysłem”
END:VEVENT
BEGIN:VEVENT
DTSTART:20250118T160000
DTEND:20250118T180000
UID:4
SUMMARY:Rekrutacja do Szkoły Doktorskiej UwB w praktyce
END:VEVENT
BEGIN:VEVENT
DTSTART:20250122T160000
DTEND:20250122T180000
UID:5
SUMMARY:CKUM - styczniowe spotkania klubów
END:VEVENT
BEGIN:VEVENT
DTSTART:20250131T094500
DTEND:20250131T111500
UID:6
SUMMARY:Katedra Fizyki Matematycznej - seminarium
END:VEVENT
END:VCALENDAR