BEGIN:VCALENDAR
VERSION:2.0
PRODID:-//dhtmlXScheduler//NONSGML v2.2//EN
X-WR-CALNAME:Wydarzenia
BEGIN:VEVENT
DTSTART:20250213T160000
DTEND:20250213T170000
UID:0
SUMMARY:CKUM - lutowe spotkanie klubu „Młodzi umysłem”
END:VEVENT
BEGIN:VEVENT
DTSTART:20250214T131500
DTEND:20250214T141500
UID:1
SUMMARY:Pracownia Analizy Funkcjonalnej - seminarium
END:VEVENT
BEGIN:VEVENT
DTSTART:20250219T160000
DTEND:20250219T180000
UID:2
SUMMARY:CKUM - lutowe spotkania klubów Młodego Odkrywcy
END:VEVENT
BEGIN:VEVENT
DTSTART:20250221T131500
DTEND:20250221T141500
UID:3
SUMMARY:Pracownia Analizy Funkcjonalnej - seminarium
END:VEVENT
BEGIN:VEVENT
DTSTART:20250224T080000
DTEND:20250228T160000
UID:4
SUMMARY:Przed nami Erasmus+ Week na Uniwersytecie w Białymstoku
END:VEVENT
BEGIN:VEVENT
DTSTART:20250226T113000
DTEND:20250226T130000
UID:5
SUMMARY:Katedra Algebry i Geometrii - seminarium
END:VEVENT
BEGIN:VEVENT
DTSTART:20250226T131500
DTEND:20250226T141500
UID:6
SUMMARY:Koło Naukowe Zastosowań Matematyki "Fraktal" - otwarte spotkanie 26.02.2025
END:VEVENT
BEGIN:VEVENT
DTSTART:20250228T113000
DTEND:20250228T123000
UID:7
SUMMARY:Pracownia Analizy Funkcjonalnej - seminarium
END:VEVENT
BEGIN:VEVENT
DTSTART:20250228T094500
DTEND:20250228T111500
UID:8
SUMMARY:Katedra Fizyki Matematycznej - seminarium
END:VEVENT
END:VCALENDAR