BEGIN:VCALENDAR
VERSION:2.0
PRODID:-//dhtmlXScheduler//NONSGML v2.2//EN
X-WR-CALNAME:Wydarzenia
BEGIN:VEVENT
DTSTART:20230301T131500
DTEND:20230301T144500
UID:0
SUMMARY:Seminarium WM
END:VEVENT
BEGIN:VEVENT
DTSTART:20230303T101500
DTEND:20230303T120000
UID:1
SUMMARY:Katedra Fizyki Matematycznej - seminarium
END:VEVENT
BEGIN:VEVENT
DTSTART:20230308T131500
DTEND:20230308T144500
UID:2
SUMMARY:Seminarium WM
END:VEVENT
BEGIN:VEVENT
DTSTART:20230310T101500
DTEND:20230310T120000
UID:3
SUMMARY:Katedra Fizyki Matematycznej - seminarium
END:VEVENT
BEGIN:VEVENT
DTSTART:20230315T131500
DTEND:20230315T144500
UID:4
SUMMARY:Seminarium WM
END:VEVENT
BEGIN:VEVENT
DTSTART:20230316T094500
DTEND:20230316T114500
UID:5
SUMMARY:Katedra Algebry i Geometrii - seminarium
END:VEVENT
BEGIN:VEVENT
DTSTART:20230317T101500
DTEND:20230317T120000
UID:6
SUMMARY:Katedra Fizyki Matematycznej - seminarium
END:VEVENT
BEGIN:VEVENT
DTSTART:20230320T131500
DTEND:20230320T150000
UID:7
SUMMARY:Pracownia Równań Różniczkowych - seminarium
END:VEVENT
BEGIN:VEVENT
DTSTART:20230322T160000
DTEND:20230322T170000
UID:8
SUMMARY:CKUM - Klub My matematyce
END:VEVENT
BEGIN:VEVENT
DTSTART:20230322T170000
DTEND:20230322T180000
UID:9
SUMMARY:CKUM - Klub My, tropiciele matematyki
END:VEVENT
BEGIN:VEVENT
DTSTART:20230322T170000
DTEND:20230322T180000
UID:10
SUMMARY:CKUM - Klub My, matematyczni podróżnicy
END:VEVENT
BEGIN:VEVENT
DTSTART:20230323T090000
DTEND:20230324T150000
UID:11
SUMMARY:Marcowe Spotkania z Nauką na Wydziale Matematyki - 2023
END:VEVENT
BEGIN:VEVENT
DTSTART:20230323T163000
DTEND:20230323T180000
UID:12
SUMMARY:CKUM - seminarium
END:VEVENT
BEGIN:VEVENT
DTSTART:20230323T094500
DTEND:20230323T114500
UID:13
SUMMARY:Katedra Algebry i Geometrii - seminarium
END:VEVENT
BEGIN:VEVENT
DTSTART:20230327T131500
DTEND:20230327T150000
UID:14
SUMMARY:Pracownia Równań Różniczkowych - seminarium
END:VEVENT
BEGIN:VEVENT
DTSTART:20230329T131500
DTEND:20230329T150000
UID:15
SUMMARY:Seminarium WM
END:VEVENT
BEGIN:VEVENT
DTSTART:20230330T094500
DTEND:20230330T114500
UID:16
SUMMARY:Katedra Algebry i Geometrii - seminarium
END:VEVENT
BEGIN:VEVENT
DTSTART:20230331T101500
DTEND:20230331T120000
UID:17
SUMMARY:Katedra Fizyki Matematycznej - seminarium
END:VEVENT
BEGIN:VEVENT
DTSTART:20230331T101500
DTEND:20230331T120000
UID:18
SUMMARY:Pracownia Analizy Funkcjonalnej - seminarium
END:VEVENT
END:VCALENDAR