BEGIN:VCALENDAR
VERSION:2.0
PRODID:-//dhtmlXScheduler//NONSGML v2.2//EN
X-WR-CALNAME:Wydarzenia
BEGIN:VEVENT
DTSTART:20240301T094500
DTEND:20240301T120000
UID:0
SUMMARY:Katedra Fizyki Matematycznej - seminarium
END:VEVENT
BEGIN:VEVENT
DTSTART:20240301T120000
DTEND:20240301T140000
UID:1
SUMMARY:Seminarium doktoranckie
END:VEVENT
BEGIN:VEVENT
DTSTART:20240306T131500
DTEND:20240306T150000
UID:2
SUMMARY:Seminarium WM
END:VEVENT
BEGIN:VEVENT
DTSTART:20240308T113000
DTEND:20240308T130000
UID:3
SUMMARY:Pracownia Analizy Funkcjonalnej - seminarium
END:VEVENT
BEGIN:VEVENT
DTSTART:20240308T094500
DTEND:20240308T120000
UID:4
SUMMARY:Katedra Fizyki Matematycznej - seminarium
END:VEVENT
BEGIN:VEVENT
DTSTART:20240313T131500
DTEND:20240313T151500
UID:5
SUMMARY:Seminarium WM
END:VEVENT
BEGIN:VEVENT
DTSTART:20240313T113000
DTEND:20240313T130000
UID:6
SUMMARY:Katedra Algebry i Geometrii - seminarium
END:VEVENT
BEGIN:VEVENT
DTSTART:20240314T090000
DTEND:20240316T180000
UID:7
SUMMARY:Marcowe Spotkania z Nauką na Wydziale Matematyki - 2024
END:VEVENT
BEGIN:VEVENT
DTSTART:20240315T094500
DTEND:20240315T113000
UID:8
SUMMARY:Katedra Fizyki Matematycznej - seminarium
END:VEVENT
BEGIN:VEVENT
DTSTART:20240320T113000
DTEND:20240320T130000
UID:9
SUMMARY:Katedra Algebry i Geometrii - seminarium
END:VEVENT
BEGIN:VEVENT
DTSTART:20240327T131500
DTEND:20240327T150000
UID:10
SUMMARY:Seminarium WM
END:VEVENT
BEGIN:VEVENT
DTSTART:20240327T113000
DTEND:20240327T130000
UID:11
SUMMARY:Katedra Algebry i Geometrii - seminarium
END:VEVENT
END:VCALENDAR