BEGIN:VCALENDAR
VERSION:2.0
PRODID:-//dhtmlXScheduler//NONSGML v2.2//EN
X-WR-CALNAME:Wydarzenia
BEGIN:VEVENT
DTSTART:20230405T131500
DTEND:20230405T150000
UID:0
SUMMARY:Seminarium WM
END:VEVENT
BEGIN:VEVENT
DTSTART:20230412T131500
DTEND:20230412T150000
UID:1
SUMMARY:Seminarium WM
END:VEVENT
BEGIN:VEVENT
DTSTART:20230419T111500
DTEND:20230419T131500
UID:2
SUMMARY:Pracownia Równań Różniczkowych - seminarium
END:VEVENT
BEGIN:VEVENT
DTSTART:20230420T094500
DTEND:20230420T110000
UID:3
SUMMARY:Katedra Algebry i Geometrii - seminarium
END:VEVENT
BEGIN:VEVENT
DTSTART:20230421T101500
DTEND:20230421T120000
UID:4
SUMMARY:Pracownia Analizy Funkcjonalnej - seminarium
END:VEVENT
BEGIN:VEVENT
DTSTART:20230424T113000
DTEND:20230424T130000
UID:5
SUMMARY:Spotkania z pracodawcami wiosna 2023
END:VEVENT
BEGIN:VEVENT
DTSTART:20230426T111500
DTEND:20230426T130000
UID:6
SUMMARY:Pracownia Równań Różniczkowych - seminarium
END:VEVENT
BEGIN:VEVENT
DTSTART:20230426T131500
DTEND:20230426T150000
UID:7
SUMMARY:Seminarium WM
END:VEVENT
BEGIN:VEVENT
DTSTART:20230427T094500
DTEND:20230427T120000
UID:8
SUMMARY:Katedra Algebry i Geometrii - seminarium
END:VEVENT
BEGIN:VEVENT
DTSTART:20230428T101500
DTEND:20230428T120000
UID:9
SUMMARY:Katedra Fizyki Matematycznej - seminarium
END:VEVENT
END:VCALENDAR