BEGIN:VCALENDAR
VERSION:2.0
PRODID:-//dhtmlXScheduler//NONSGML v2.2//EN
X-WR-CALNAME:Wydarzenia
BEGIN:VEVENT
DTSTART:20240403T131500
DTEND:20240403T150000
UID:0
SUMMARY:Seminarium WM
END:VEVENT
BEGIN:VEVENT
DTSTART:20240405T094500
DTEND:20240405T113000
UID:1
SUMMARY:Katedra Fizyki Matematycznej - seminarium
END:VEVENT
BEGIN:VEVENT
DTSTART:20240410T113000
DTEND:20240410T130000
UID:2
SUMMARY:Katedra Algebry i Geometrii - seminarium
END:VEVENT
BEGIN:VEVENT
DTSTART:20240410T131500
DTEND:20240410T150000
UID:3
SUMMARY:Seminarium WM
END:VEVENT
BEGIN:VEVENT
DTSTART:20240417T113000
DTEND:20240417T130000
UID:4
SUMMARY:Katedra Algebry i Geometrii - seminarium
END:VEVENT
BEGIN:VEVENT
DTSTART:20240417T160000
DTEND:20240417T180000
UID:5
SUMMARY:CKUM - kwietniowe spotkania klubów
END:VEVENT
BEGIN:VEVENT
DTSTART:20240417T131500
DTEND:20240417T150000
UID:6
SUMMARY:Seminarium WM
END:VEVENT
BEGIN:VEVENT
DTSTART:20240418T160000
DTEND:20240418T191500
UID:7
SUMMARY:MATEMATYCZNE POGOTOWIE MATURALNE - ZADANIA NA TACY
END:VEVENT
BEGIN:VEVENT
DTSTART:20240419T094500
DTEND:20240419T120000
UID:8
SUMMARY:Katedra Fizyki Matematycznej - seminarium
END:VEVENT
BEGIN:VEVENT
DTSTART:20240424T113000
DTEND:20240424T130000
UID:9
SUMMARY:Katedra Algebry i Geometrii - seminarium
END:VEVENT
BEGIN:VEVENT
DTSTART:20240424T130000
DTEND:20240424T150000
UID:10
SUMMARY:Seminarium WM
END:VEVENT
BEGIN:VEVENT
DTSTART:20240426T130000
DTEND:20240426T141500
UID:11
SUMMARY:Spotkanie dotyczące procesu rekrutacji do Szkoły Doktorskiej UwB
END:VEVENT
BEGIN:VEVENT
DTSTART:20240426T094500
DTEND:20240426T120000
UID:12
SUMMARY:Katedra Fizyki Matematycznej - seminarium
END:VEVENT
END:VCALENDAR