BEGIN:VCALENDAR
VERSION:2.0
PRODID:-//dhtmlXScheduler//NONSGML v2.2//EN
X-WR-CALNAME:Wydarzenia
BEGIN:VEVENT
DTSTART:20230505T091500
DTEND:20230505T110000
UID:0
SUMMARY:Pracownia Analizy Funkcjonalnej - seminarium
END:VEVENT
BEGIN:VEVENT
DTSTART:20230505T101500
DTEND:20230505T101500
UID:1
SUMMARY:Katedra Fizyki Matematycznej - seminarium
END:VEVENT
BEGIN:VEVENT
DTSTART:20230510T131500
DTEND:20230510T150000
UID:2
SUMMARY:Seminarium WM
END:VEVENT
BEGIN:VEVENT
DTSTART:20230512T101500
DTEND:20230512T120000
UID:3
SUMMARY:Katedra Fizyki Matematycznej - seminarium
END:VEVENT
BEGIN:VEVENT
DTSTART:20230515T113000
DTEND:20230515T130000
UID:4
SUMMARY:Spotkania z pracodawcami wiosna 2023
END:VEVENT
BEGIN:VEVENT
DTSTART:20230517T131500
DTEND:20230517T150000
UID:5
SUMMARY:Seminarium WM
END:VEVENT
BEGIN:VEVENT
DTSTART:20230517T111500
DTEND:20230517T130000
UID:6
SUMMARY:Pracownia Równań Różniczkowych - seminarium
END:VEVENT
BEGIN:VEVENT
DTSTART:20230522T141500
DTEND:20230522T160000
UID:7
SUMMARY:Pracownia Równań Różniczkowych - seminarium
END:VEVENT
BEGIN:VEVENT
DTSTART:20230526T101500
DTEND:20230526T120000
UID:8
SUMMARY:Katedra Fizyki Matematycznej - seminarium
END:VEVENT
BEGIN:VEVENT
DTSTART:20230529T113000
DTEND:20230529T130000
UID:9
SUMMARY:Spotkania z pracodawcami wiosna 2023
END:VEVENT
BEGIN:VEVENT
DTSTART:20230529T141500
DTEND:20230529T160000
UID:10
SUMMARY:Pracownia Równań Różniczkowych - seminarium
END:VEVENT
BEGIN:VEVENT
DTSTART:20230531T131500
DTEND:20230531T150000
UID:11
SUMMARY:Seminarium WM
END:VEVENT
END:VCALENDAR