BEGIN:VCALENDAR
VERSION:2.0
PRODID:-//dhtmlXScheduler//NONSGML v2.2//EN
X-WR-CALNAME:Wydarzenia
BEGIN:VEVENT
DTSTART:20240508T131500
DTEND:20240508T150000
UID:0
SUMMARY:Seminarium WM
END:VEVENT
BEGIN:VEVENT
DTSTART:20240510T113000
DTEND:20240510T130000
UID:1
SUMMARY:Pracownia Analizy Funkcjonalnej - seminarium
END:VEVENT
BEGIN:VEVENT
DTSTART:20240515T131500
DTEND:20240515T150000
UID:2
SUMMARY:Seminarium WM
END:VEVENT
BEGIN:VEVENT
DTSTART:20240515T113000
DTEND:20240515T130000
UID:3
SUMMARY:Katedra Algebry i Geometrii - seminarium
END:VEVENT
BEGIN:VEVENT
DTSTART:20240515T131500
DTEND:20240515T150000
UID:4
SUMMARY:Seminarium WM
END:VEVENT
BEGIN:VEVENT
DTSTART:20240517T113000
DTEND:20240517T130000
UID:5
SUMMARY:Pracownia Analizy Funkcjonalnej - seminarium
END:VEVENT
BEGIN:VEVENT
DTSTART:20240517T094500
DTEND:20240517T120000
UID:6
SUMMARY:Katedra Fizyki Matematycznej - seminarium
END:VEVENT
BEGIN:VEVENT
DTSTART:20240522T113000
DTEND:20240522T130000
UID:7
SUMMARY:Katedra Algebry i Geometrii - seminarium
END:VEVENT
BEGIN:VEVENT
DTSTART:20240524T113000
DTEND:20240524T130000
UID:8
SUMMARY:Pracownia Analizy Funkcjonalnej - seminarium
END:VEVENT
BEGIN:VEVENT
DTSTART:20240529T131500
DTEND:20240529T151500
UID:9
SUMMARY:Seminarium WM
END:VEVENT
END:VCALENDAR