BEGIN:VCALENDAR
VERSION:2.0
PRODID:-//dhtmlXScheduler//NONSGML v2.2//EN
X-WR-CALNAME:Wydarzenia
BEGIN:VEVENT
DTSTART:20230601T111500
DTEND:20230601T130000
UID:0
SUMMARY:Pracownia Równań Różniczkowych - seminarium
END:VEVENT
BEGIN:VEVENT
DTSTART:20230602T101500
DTEND:20230602T120000
UID:1
SUMMARY:Katedra Fizyki Matematycznej - seminarium
END:VEVENT
BEGIN:VEVENT
DTSTART:20230614T131500
DTEND:20230614T150000
UID:2
SUMMARY:Seminarium WM
END:VEVENT
BEGIN:VEVENT
DTSTART:20230616T101500
DTEND:20230616T120000
UID:3
SUMMARY:Katedra Fizyki Matematycznej - seminarium
END:VEVENT
BEGIN:VEVENT
DTSTART:20230619T151500
DTEND:20230619T170000
UID:4
SUMMARY:Pracownia Równań Różniczkowych - seminarium
END:VEVENT
END:VCALENDAR