BEGIN:VCALENDAR
VERSION:2.0
PRODID:-//dhtmlXScheduler//NONSGML v2.2//EN
X-WR-CALNAME:Wydarzenia
BEGIN:VEVENT
DTSTART:20230920T170000
DTEND:20230920T180000
UID:0
SUMMARY:CKUM - Klub My, matematyczni podróżnicy
END:VEVENT
BEGIN:VEVENT
DTSTART:20230920T170000
DTEND:20230920T180000
UID:1
SUMMARY:CKUM - Klub My, tropiciele matematyki
END:VEVENT
BEGIN:VEVENT
DTSTART:20230920T160000
DTEND:20230920T170000
UID:2
SUMMARY:CKUM - Klub My matematyce
END:VEVENT
BEGIN:VEVENT
DTSTART:20230928T163000
DTEND:20230928T173000
UID:3
SUMMARY:CKUM - seminarium
END:VEVENT
END:VCALENDAR