BEGIN:VCALENDAR
VERSION:2.0
PRODID:-//dhtmlXScheduler//NONSGML v2.2//EN
X-WR-CALNAME:Wydarzenia
BEGIN:VEVENT
DTSTART:20240909T000000
DTEND:20240913T000000
UID:0
SUMMARY:Zeruwka - obóz dla przyszłych studentów
END:VEVENT
BEGIN:VEVENT
DTSTART:20240925T160000
DTEND:20240925T180000
UID:1
SUMMARY:CKUM - wrześniowe spotkania klubów
END:VEVENT
BEGIN:VEVENT
DTSTART:20240926T163000
DTEND:20240926T180000
UID:2
SUMMARY:CKUM - wrześniowe seminarium dla nauczycieli
END:VEVENT
END:VCALENDAR