BEGIN:VCALENDAR
VERSION:2.0
PRODID:-//dhtmlXScheduler//NONSGML v2.2//EN
X-WR-CALNAME:Wydarzenia
BEGIN:VEVENT
DTSTART:20231002T094500
DTEND:20231002T110000
UID:0
SUMMARY:Immatrykulacja Studentów 2023/2024
END:VEVENT
BEGIN:VEVENT
DTSTART:20231004T131500
DTEND:20231004T143000
UID:1
SUMMARY:Seminarium WM
END:VEVENT
BEGIN:VEVENT
DTSTART:20231006T101500
DTEND:20231006T120000
UID:2
SUMMARY:Katedra Fizyki Matematycznej - seminarium
END:VEVENT
BEGIN:VEVENT
DTSTART:20231009T140000
DTEND:20231009T153000
UID:3
SUMMARY:Katedra Algebry i Geometrii - seminarium
END:VEVENT
BEGIN:VEVENT
DTSTART:20231011T131500
DTEND:20231011T143000
UID:4
SUMMARY:Seminarium WM
END:VEVENT
BEGIN:VEVENT
DTSTART:20231013T113000
DTEND:20231013T123000
UID:5
SUMMARY:Pracownia Analizy Funkcjonalnej - seminarium
END:VEVENT
BEGIN:VEVENT
DTSTART:20231013T101500
DTEND:20231013T120000
UID:6
SUMMARY:Katedra Fizyki Matematycznej - seminarium
END:VEVENT
BEGIN:VEVENT
DTSTART:20231016T140000
DTEND:20231016T153000
UID:7
SUMMARY:Katedra Algebry i Geometrii - seminarium
END:VEVENT
BEGIN:VEVENT
DTSTART:20231018T160000
DTEND:20231018T170000
UID:8
SUMMARY:CKUM - Klub My matematyce
END:VEVENT
BEGIN:VEVENT
DTSTART:20231018T170000
DTEND:20231018T180000
UID:9
SUMMARY:CKUM - Klub My, tropiciele matematyki
END:VEVENT
BEGIN:VEVENT
DTSTART:20231018T170000
DTEND:20231018T180000
UID:10
SUMMARY:CKUM - Klub My, matematyczni podróżnicy
END:VEVENT
BEGIN:VEVENT
DTSTART:20231018T131500
DTEND:20231018T143000
UID:11
SUMMARY:Seminarium WM
END:VEVENT
BEGIN:VEVENT
DTSTART:20231020T101500
DTEND:20231020T111500
UID:12
SUMMARY:Katedra Fizyki Matematycznej - seminarium
END:VEVENT
BEGIN:VEVENT
DTSTART:20231020T113000
DTEND:20231020T123000
UID:13
SUMMARY:Pracownia Analizy Funkcjonalnej - seminarium
END:VEVENT
BEGIN:VEVENT
DTSTART:20231023T140000
DTEND:20231023T153000
UID:14
SUMMARY:Katedra Algebry i Geometrii - seminarium
END:VEVENT
BEGIN:VEVENT
DTSTART:20231024T100000
DTEND:20231024T133000
UID:15
SUMMARY:Biuro Karier UwB zaprasza na Targi Pracy – JESIEŃ 2023
END:VEVENT
BEGIN:VEVENT
DTSTART:20231025T131500
DTEND:20231025T143000
UID:16
SUMMARY:Koło Naukowe Zastosowań Matematyki - pierwsze spotkanie
END:VEVENT
BEGIN:VEVENT
DTSTART:20231026T163000
DTEND:20231026T180000
UID:17
SUMMARY:CKUM - październikowe seminarium dla nauczycieli
END:VEVENT
BEGIN:VEVENT
DTSTART:20231027T101500
DTEND:20231027T111500
UID:18
SUMMARY:Katedra Fizyki Matematycznej - seminarium
END:VEVENT
BEGIN:VEVENT
DTSTART:20231030T140000
DTEND:20231030T153000
UID:19
SUMMARY:Katedra Algebry i Geometrii - seminarium
END:VEVENT
END:VCALENDAR