BEGIN:VCALENDAR
VERSION:2.0
PRODID:-//dhtmlXScheduler//NONSGML v2.2//EN
X-WR-CALNAME:Wydarzenia
BEGIN:VEVENT
DTSTART:20241001T103000
DTEND:20241001T113000
UID:0
SUMMARY:Inauguracja roku akademickiego 2024/2025
END:VEVENT
BEGIN:VEVENT
DTSTART:20241004T094500
DTEND:20241004T120000
UID:1
SUMMARY:Katedra Fizyki Matematycznej - seminarium
END:VEVENT
BEGIN:VEVENT
DTSTART:20241009T113000
DTEND:20241009T130000
UID:2
SUMMARY:Katedra Algebry i Geometrii - seminarium
END:VEVENT
BEGIN:VEVENT
DTSTART:20241009T131500
DTEND:20241009T150000
UID:3
SUMMARY:Seminarium WM
END:VEVENT
BEGIN:VEVENT
DTSTART:20241011T131500
DTEND:20241011T150000
UID:4
SUMMARY:Pracownia Analizy Funkcjonalnej - seminarium
END:VEVENT
BEGIN:VEVENT
DTSTART:20241011T113000
DTEND:20241011T133000
UID:5
SUMMARY:Trwa rekrutacja studentów na wyjazdy na studia za granicą w semestrze letnim w ramach Erasmus+
END:VEVENT
BEGIN:VEVENT
DTSTART:20241011T094500
DTEND:20241011T120000
UID:6
SUMMARY:Katedra Fizyki Matematycznej - seminarium
END:VEVENT
BEGIN:VEVENT
DTSTART:20241016T131500
DTEND:20241016T150000
UID:7
SUMMARY:Seminarium WM
END:VEVENT
BEGIN:VEVENT
DTSTART:20241018T131500
DTEND:20241018T141500
UID:8
SUMMARY:Pracownia Analizy Funkcjonalnej - seminarium
END:VEVENT
BEGIN:VEVENT
DTSTART:20241018T094500
DTEND:20241018T120000
UID:9
SUMMARY:Katedra Fizyki Matematycznej - seminarium
END:VEVENT
BEGIN:VEVENT
DTSTART:20241023T160000
DTEND:20241023T180000
UID:10
SUMMARY:CKUM - październikowe spotkania klubów
END:VEVENT
BEGIN:VEVENT
DTSTART:20241023T113000
DTEND:20241023T130000
UID:11
SUMMARY:Katedra Algebry i Geometrii - seminarium
END:VEVENT
BEGIN:VEVENT
DTSTART:20241025T094500
DTEND:20241025T104500
UID:12
SUMMARY:Katedra Fizyki Matematycznej - seminarium
END:VEVENT
BEGIN:VEVENT
DTSTART:20241030T113000
DTEND:20241030T130000
UID:13
SUMMARY:Katedra Algebry i Geometrii - seminarium
END:VEVENT
END:VCALENDAR