BEGIN:VCALENDAR
VERSION:2.0
PRODID:-//dhtmlXScheduler//NONSGML v2.2//EN
X-WR-CALNAME:Wydarzenia
BEGIN:VEVENT
DTSTART:20231106T140000
DTEND:20231106T153000
UID:0
SUMMARY:Katedra Algebry i Geometrii - seminarium
END:VEVENT
BEGIN:VEVENT
DTSTART:20231108T131500
DTEND:20231108T150000
UID:1
SUMMARY:Seminarium WM
END:VEVENT
BEGIN:VEVENT
DTSTART:20231110T113000
DTEND:20231110T130000
UID:2
SUMMARY:Pracownia Analizy Funkcjonalnej - seminarium
END:VEVENT
BEGIN:VEVENT
DTSTART:20231110T094500
DTEND:20231110T110000
UID:3
SUMMARY:Katedra Fizyki Matematycznej - seminarium
END:VEVENT
BEGIN:VEVENT
DTSTART:20231113T140000
DTEND:20231113T153000
UID:4
SUMMARY:Katedra Algebry i Geometrii - seminarium
END:VEVENT
BEGIN:VEVENT
DTSTART:20231115T131500
DTEND:20231115T150000
UID:5
SUMMARY:Seminarium WM
END:VEVENT
BEGIN:VEVENT
DTSTART:20231117T094500
DTEND:20231117T110000
UID:6
SUMMARY:Katedra Fizyki Matematycznej - seminarium
END:VEVENT
BEGIN:VEVENT
DTSTART:20231120T140000
DTEND:20231120T153000
UID:7
SUMMARY:Katedra Algebry i Geometrii - seminarium
END:VEVENT
BEGIN:VEVENT
DTSTART:20231122T160000
DTEND:20231122T170000
UID:8
SUMMARY:CKUM - Klub My, tropiciele matematyki
END:VEVENT
BEGIN:VEVENT
DTSTART:20231122T170000
DTEND:20231122T180000
UID:9
SUMMARY:CKUM - Klub My matematyce
END:VEVENT
BEGIN:VEVENT
DTSTART:20231124T094500
DTEND:20231124T114500
UID:10
SUMMARY:Katedra Fizyki Matematycznej - seminarium
END:VEVENT
BEGIN:VEVENT
DTSTART:20231129T131500
DTEND:20231129T150000
UID:11
SUMMARY:Seminarium WM
END:VEVENT
BEGIN:VEVENT
DTSTART:20231129T131500
DTEND:20231129T141500
UID:12
SUMMARY:Koło Naukowe Zastosowań Matematyki - kolejne spotkanie 29.11.2023
END:VEVENT
BEGIN:VEVENT
DTSTART:20231130T163000
DTEND:20231130T173000
UID:13
SUMMARY:CKUM - listopadowe seminarium dla nauczycieli
END:VEVENT
END:VCALENDAR