BEGIN:VCALENDAR
VERSION:2.0
PRODID:-//dhtmlXScheduler//NONSGML v2.2//EN
X-WR-CALNAME:Wydarzenia
BEGIN:VEVENT
DTSTART:20241106T131500
DTEND:20241106T141500
UID:0
SUMMARY:Seminarium WM
END:VEVENT
BEGIN:VEVENT
DTSTART:20241108T094500
DTEND:20241108T110000
UID:1
SUMMARY:Katedra Fizyki Matematycznej - seminarium
END:VEVENT
BEGIN:VEVENT
DTSTART:20241113T131500
DTEND:20241113T141500
UID:2
SUMMARY:Seminarium WM
END:VEVENT
BEGIN:VEVENT
DTSTART:20241113T113000
DTEND:20241113T130000
UID:3
SUMMARY:Katedra Algebry i Geometrii - seminarium
END:VEVENT
BEGIN:VEVENT
DTSTART:20241115T094500
DTEND:20241115T110000
UID:4
SUMMARY:Katedra Fizyki Matematycznej - seminarium
END:VEVENT
BEGIN:VEVENT
DTSTART:20241120T160000
DTEND:20241120T180000
UID:5
SUMMARY:CKUM - listopadowe spotkania klubów
END:VEVENT
BEGIN:VEVENT
DTSTART:20241120T113000
DTEND:20241120T130000
UID:6
SUMMARY:Katedra Algebry i Geometrii - seminarium
END:VEVENT
BEGIN:VEVENT
DTSTART:20241122T131500
DTEND:20241122T150000
UID:7
SUMMARY:Pracownia Analizy Funkcjonalnej - seminarium
END:VEVENT
BEGIN:VEVENT
DTSTART:20241122T094500
DTEND:20241122T111500
UID:8
SUMMARY:Katedra Fizyki Matematycznej - seminarium
END:VEVENT
BEGIN:VEVENT
DTSTART:20241125T130000
DTEND:20241125T150000
UID:9
SUMMARY:Ogólnopolski Dzień Erasmusa
END:VEVENT
BEGIN:VEVENT
DTSTART:20241127T131500
DTEND:20241127T150000
UID:10
SUMMARY:Koło Naukowe Zastosowań Matematyki "Fraktal" - otwarte spotkanie 27.11.2024
END:VEVENT
BEGIN:VEVENT
DTSTART:20241127T113000
DTEND:20241127T133000
UID:11
SUMMARY:Katedra Algebry i Geometrii - seminarium
END:VEVENT
BEGIN:VEVENT
DTSTART:20241129T131500
DTEND:20241129T150000
UID:12
SUMMARY:Pracownia Analizy Funkcjonalnej - seminarium
END:VEVENT
END:VCALENDAR