BEGIN:VCALENDAR
VERSION:2.0
PRODID:-//dhtmlXScheduler//NONSGML v2.2//EN
X-WR-CALNAME:Wydarzenia
BEGIN:VEVENT
DTSTART:20231204T140000
DTEND:20231204T150000
UID:0
SUMMARY:Katedra Algebry i Geometrii - seminarium
END:VEVENT
BEGIN:VEVENT
DTSTART:20231206T131500
DTEND:20231206T150000
UID:1
SUMMARY:Seminarium WM
END:VEVENT
BEGIN:VEVENT
DTSTART:20231208T113000
DTEND:20231208T130000
UID:2
SUMMARY:Pracownia Analizy Funkcjonalnej - seminarium
END:VEVENT
BEGIN:VEVENT
DTSTART:20231208T094500
DTEND:20231208T104500
UID:3
SUMMARY:Katedra Fizyki Matematycznej - seminarium
END:VEVENT
BEGIN:VEVENT
DTSTART:20231211T140000
DTEND:20231211T153000
UID:4
SUMMARY:Katedra Algebry i Geometrii - seminarium
END:VEVENT
BEGIN:VEVENT
DTSTART:20231215T094500
DTEND:20231215T113000
UID:5
SUMMARY:Katedra Fizyki Matematycznej - seminarium
END:VEVENT
BEGIN:VEVENT
DTSTART:20231215T113000
DTEND:20231215T130000
UID:6
SUMMARY:Pracownia Analizy Funkcjonalnej - seminarium
END:VEVENT
BEGIN:VEVENT
DTSTART:20231218T140000
DTEND:20231218T153000
UID:7
SUMMARY:Katedra Algebry i Geometrii - seminarium
END:VEVENT
END:VCALENDAR