BEGIN:VCALENDAR
VERSION:2.0
PRODID:-//dhtmlXScheduler//NONSGML v2.2//EN
X-WR-CALNAME:Wydarzenia
BEGIN:VEVENT
DTSTART:20241204T113000
DTEND:20241204T130000
UID:0
SUMMARY:Katedra Algebry i Geometrii - seminarium
END:VEVENT
BEGIN:VEVENT
DTSTART:20241206T131500
DTEND:20241206T150000
UID:1
SUMMARY:Pracownia Analizy Funkcjonalnej - seminarium
END:VEVENT
BEGIN:VEVENT
DTSTART:20241206T094500
DTEND:20241206T111500
UID:2
SUMMARY:Katedra Fizyki Matematycznej - seminarium
END:VEVENT
BEGIN:VEVENT
DTSTART:20241211T131500
DTEND:20241211T141500
UID:3
SUMMARY:Seminarium WM
END:VEVENT
BEGIN:VEVENT
DTSTART:20241213T094500
DTEND:20241213T111500
UID:4
SUMMARY:Katedra Fizyki Matematycznej - seminarium
END:VEVENT
BEGIN:VEVENT
DTSTART:20241213T131500
DTEND:20241213T150000
UID:5
SUMMARY:Pracownia Analizy Funkcjonalnej - seminarium
END:VEVENT
BEGIN:VEVENT
DTSTART:20241218T160000
DTEND:20241218T180000
UID:6
SUMMARY:CKUM - grudniowe spotkania klubów
END:VEVENT
BEGIN:VEVENT
DTSTART:20241220T131500
DTEND:20241220T150000
UID:7
SUMMARY:Pracownia Analizy Funkcjonalnej - seminarium
END:VEVENT
END:VCALENDAR