BEGIN:VCALENDAR
VERSION:2.0
PRODID:-//dhtmlXScheduler//NONSGML v2.2//EN
X-WR-CALNAME:Wydarzenia
BEGIN:VEVENT
DTSTART:20230920T170000
DTEND:20230920T180000
UID:1
SUMMARY:CKUM - Klub My, tropiciele matematyki
END:VEVENT
END:VCALENDAR