BEGIN:VCALENDAR
VERSION:2.0
PRODID:-//dhtmlXScheduler//NONSGML v2.2//EN
X-WR-CALNAME:Wydarzenia
BEGIN:VEVENT
DTSTART:20240417T160000
DTEND:20240417T180000
UID:1
SUMMARY:CKUM - kwietniowe spotkania klubów
END:VEVENT
END:VCALENDAR