BEGIN:VCALENDAR
VERSION:2.0
PRODID:-//dhtmlXScheduler//NONSGML v2.2//EN
X-WR-CALNAME:Wydarzenia
BEGIN:VEVENT
DTSTART:20250213T160000
DTEND:20250213T170000
UID:1
SUMMARY:CKUM - lutowe spotkanie klubu „Młodzi umysłem”
END:VEVENT
END:VCALENDAR