BEGIN:VCALENDAR
VERSION:2.0
PRODID:-//dhtmlXScheduler//NONSGML v2.2//EN
X-WR-CALNAME:Wydarzenia
BEGIN:VEVENT
DTSTART:20230323T163000
DTEND:20230323T180000
UID:1
SUMMARY:CKUM - seminarium
END:VEVENT
END:VCALENDAR