BEGIN:VCALENDAR
VERSION:2.0
PRODID:-//dhtmlXScheduler//NONSGML v2.2//EN
X-WR-CALNAME:Wydarzenia
BEGIN:VEVENT
DTSTART:20260121T170000
DTEND:20260121T180000
UID:1
SUMMARY:CKUM - styczniowe spotkanie klubu My, matematyczni podróżnicy
END:VEVENT
END:VCALENDAR