BEGIN:VCALENDAR
VERSION:2.0
PRODID:-//dhtmlXScheduler//NONSGML v2.2//EN
X-WR-CALNAME:Wydarzenia
BEGIN:VEVENT
DTSTART:20241108T094500
DTEND:20241108T110000
UID:1
SUMMARY:Katedra Fizyki Matematycznej - seminarium
END:VEVENT
END:VCALENDAR