BEGIN:VCALENDAR
VERSION:2.0
PRODID:-//dhtmlXScheduler//NONSGML v2.2//EN
X-WR-CALNAME:Wydarzenia
BEGIN:VEVENT
DTSTART:20240228T131500
DTEND:20240228T150000
UID:1
SUMMARY:Koło Naukowe Zastosowań Matematyki - kolejne spotkanie 28.02.2024
END:VEVENT
END:VCALENDAR