BEGIN:VCALENDAR
VERSION:2.0
PRODID:-//dhtmlXScheduler//NONSGML v2.2//EN
X-WR-CALNAME:Wydarzenia
BEGIN:VEVENT
DTSTART:20241127T131500
DTEND:20241127T150000
UID:1
SUMMARY:Koło Naukowe Zastosowań Matematyki "Fraktal" - otwarte spotkanie 27.11.2024
END:VEVENT
END:VCALENDAR