BEGIN:VCALENDAR
VERSION:2.0
PRODID:-//dhtmlXScheduler//NONSGML v2.2//EN
X-WR-CALNAME:Wydarzenia
BEGIN:VEVENT
DTSTART:20240314T090000
DTEND:20240316T180000
UID:1
SUMMARY:Marcowe Spotkania z Nauką na Wydziale Matematyki - 2024
END:VEVENT
END:VCALENDAR