BEGIN:VCALENDAR
VERSION:2.0
PRODID:-//dhtmlXScheduler//NONSGML v2.2//EN
X-WR-CALNAME:Wydarzenia
BEGIN:VEVENT
DTSTART:20250313T080000
DTEND:20250315T150000
UID:1
SUMMARY:Marcowe Spotkania z Nauką na Wydziale Matematyki - 2025
END:VEVENT
END:VCALENDAR