BEGIN:VCALENDAR
VERSION:2.0
PRODID:-//dhtmlXScheduler//NONSGML v2.2//EN
X-WR-CALNAME:Wydarzenia
BEGIN:VEVENT
DTSTART:20240215T080000
DTEND:20240221T180000
UID:1
SUMMARY:Poprawkowa sesja egzaminacyjna semestr zimowy, rok ak. 2023/2024
END:VEVENT
END:VCALENDAR