BEGIN:VCALENDAR
VERSION:2.0
PRODID:-//dhtmlXScheduler//NONSGML v2.2//EN
X-WR-CALNAME:Wydarzenia
BEGIN:VEVENT
DTSTART:20241106T131500
DTEND:20241106T141500
UID:1
SUMMARY:Seminarium WM
END:VEVENT
END:VCALENDAR