BEGIN:VCALENDAR
VERSION:2.0
PRODID:-//dhtmlXScheduler//NONSGML v2.2//EN
X-WR-CALNAME:Wydarzenia
BEGIN:VEVENT
DTSTART:20240202T000000
DTEND:20240214T000000
UID:1
SUMMARY:Sesja egzaminacyjna semestr zimowy, rok ak. 2023/2024
END:VEVENT
END:VCALENDAR