BEGIN:VCALENDAR
VERSION:2.0
PRODID:-//dhtmlXScheduler//NONSGML v2.2//EN
X-WR-CALNAME:Wydarzenia
BEGIN:VEVENT
DTSTART:20240426T130000
DTEND:20240426T141500
UID:1
SUMMARY:Spotkanie dotyczące procesu rekrutacji do Szkoły Doktorskiej UwB
END:VEVENT
END:VCALENDAR