BEGIN:VCALENDAR
VERSION:2.0
PRODID:-//dhtmlXScheduler//NONSGML v2.2//EN
X-WR-CALNAME:Wydarzenia
BEGIN:VEVENT
DTSTART:20240131T131500
DTEND:20240131T141500
UID:1
SUMMARY:Spotkanie przedwyborcze z kadydatem na rektora UwB
END:VEVENT
END:VCALENDAR