BEGIN:VCALENDAR
VERSION:2.0
PRODID:-//dhtmlXScheduler//NONSGML v2.2//EN
X-WR-CALNAME:Wydarzenia
BEGIN:VEVENT
DTSTART:20241011T113000
DTEND:20241011T133000
UID:1
SUMMARY:Trwa rekrutacja studentów na wyjazdy na studia za granicą w semestrze letnim w ramach Erasmus+
END:VEVENT
END:VCALENDAR