BEGIN:VCALENDAR
VERSION:2.0
PRODID:-//dhtmlXScheduler//NONSGML v2.2//EN
X-WR-CALNAME:Wydarzenia
BEGIN:VEVENT
DTSTART:20260421T000000
DTEND:20260422T000000
UID:1
SUMMARY:Wykłady ERASMUS+
END:VEVENT
END:VCALENDAR